BEGIN:VCALENDAR
VERSION:2.0
PRODID:icalendar-ruby
CALSCALE:GREGORIAN
BEGIN:VEVENT
DTSTAMP:20210122T063210Z
UID:990fec31-0295-4fd9-903a-2f0f4e3174d7
DTSTART;VALUE=DATE:20191212
DESCRIPTION:Property ID# 467366\, Locatoin: level 2\, 33-35 Robert Street\,
  Whangarei\, Time: 12:00PM
SUMMARY:Auction for 
END:VEVENT
END:VCALENDAR
