BEGIN:VCALENDAR
VERSION:2.0
PRODID:icalendar-ruby
CALSCALE:GREGORIAN
BEGIN:VEVENT
DTSTAMP:20210122T063534Z
UID:765751f3-7dd4-48d8-b0be-63a68c6a009d
DTSTART;VALUE=DATE:20200514
DESCRIPTION:Property ID# 472190\, Locatoin: Harcourts Whangarei - 33 - 35 R
 obert St\, Whangarei\, Time: 2:00PM
SUMMARY:Auction for 
END:VEVENT
END:VCALENDAR
