BEGIN:VCALENDAR
VERSION:2.0
PRODID:icalendar-ruby
CALSCALE:GREGORIAN
BEGIN:VEVENT
DTSTAMP:20210122T063532Z
UID:1229b507-647f-44b4-8d4c-23e971d966c9
DTSTART;VALUE=DATE:20200828
DESCRIPTION:Property ID# 485874\, Locatoin: Harcourts Whangarei - 33 - 35 R
 obert St\, Whangarei\, Time: 12:00PM
SUMMARY:Auction for 
END:VEVENT
END:VCALENDAR
