BEGIN:VCALENDAR
VERSION:2.0
PRODID:icalendar-ruby
CALSCALE:GREGORIAN
BEGIN:VEVENT
DTSTAMP:20210122T063530Z
UID:879238c0-eaa9-48e5-8cfa-2d1c4007ca43
DTSTART;VALUE=DATE:20201002
DESCRIPTION:Property ID# 487860\, Locatoin: Harcourts Whangarei - 33 - 35 R
 obert St\, Whangarei\, Time: 12:00PM
SUMMARY:Auction for 
END:VEVENT
END:VCALENDAR
