BEGIN:VCALENDAR
VERSION:2.0
PRODID:icalendar-ruby
CALSCALE:GREGORIAN
BEGIN:VEVENT
DTSTAMP:20210122T063311Z
UID:eb0b862f-49e1-4853-aef8-25b7b76f93da
DTSTART;VALUE=DATE:20201120
DESCRIPTION:Property ID# 493508\, Locatoin: Level 2\, 33-35 Robert Street\,
  Whangarei\, Time: 12:00PM
SUMMARY:Auction for 
END:VEVENT
END:VCALENDAR
