BEGIN:VCALENDAR
VERSION:2.0
PRODID:icalendar-ruby
CALSCALE:GREGORIAN
BEGIN:VEVENT
DTSTAMP:20210122T063538Z
UID:3adf8f5a-6a01-4dd6-91a8-56d8b1098534
DTSTART;VALUE=DATE:20201204
DESCRIPTION:Property ID# 494990\, Locatoin: Level 2\, 33-35 Robert Street\,
  Whangarei\, Time: 12:00PM
SUMMARY:Auction for 
END:VEVENT
END:VCALENDAR
