BEGIN:VCALENDAR
VERSION:2.0
PRODID:icalendar-ruby
CALSCALE:GREGORIAN
BEGIN:VEVENT
DTSTAMP:20210122T063527Z
UID:6cff61d7-80b4-4296-8190-4efd6d118691
DTSTART;VALUE=DATE:20210219
DESCRIPTION:Property ID# 498847\, Locatoin: Harcourts Whangarei\, Time: 12:
 00PM
SUMMARY:Auction for 52 Bream Bay Drive
END:VEVENT
END:VCALENDAR
