BEGIN:VCALENDAR
VERSION:2.0
PRODID:icalendar-ruby
CALSCALE:GREGORIAN
BEGIN:VEVENT
DTSTAMP:20210122T063715Z
UID:a00df9ec-321b-4f2b-bf62-922fdbbd562e
DTSTART;VALUE=DATE:20210219
DESCRIPTION:Property ID# 499853\, Locatoin: Harcourts\, Level 2\, 33-35 Rat
 hbone Street\, Whangarei\, Time: 12:00PM
SUMMARY:Auction for 41 Churchill Street
END:VEVENT
END:VCALENDAR
