BEGIN:VCALENDAR
VERSION:2.0
PRODID:icalendar-ruby
CALSCALE:GREGORIAN
BEGIN:VEVENT
DTSTAMP:20210122T063524Z
UID:69cd5b79-813c-4f14-816a-075ffa8bc6ac
DTSTART;TZID=Pacific/Auckland:20210123T130000
DTEND;TZID=Pacific/Auckland:20210123T140000
DESCRIPTION:Property ID# 498847
SUMMARY:Openhome for 52 Bream Bay Drive
END:VEVENT
END:VCALENDAR
